Package: SpaNorm Version: 1.0.0 Command: /home/biocbuild/bbs-3.20-bioc/R/bin/R CMD check --install=check:SpaNorm.install-out.txt --library=/home/biocbuild/bbs-3.20-bioc/R/site-library --timings SpaNorm_1.0.0.tar.gz StartedAt: 2025-04-01 02:26:08 -0400 (Tue, 01 Apr 2025) EndedAt: 2025-04-01 02:34:28 -0400 (Tue, 01 Apr 2025) EllapsedTime: 499.5 seconds RetCode: 0 Status: OK CheckDir: SpaNorm.Rcheck Warnings: 0