Package: SpaNorm Version: 1.0.0 Command: /Library/Frameworks/R.framework/Resources/bin/R CMD build --keep-empty-dirs --no-resave-data SpaNorm StartedAt: 2025-04-01 08:14:54 -0400 (Tue, 01 Apr 2025) EndedAt: 2025-04-01 08:22:28 -0400 (Tue, 01 Apr 2025) EllapsedTime: 454.4 seconds RetCode: 0 Status: OK PackageFile: SpaNorm_1.0.0.tar.gz PackageFileSize: 7.477 MiB