Package: SomaticSignatures Version: 2.42.0 Command: /Library/Frameworks/R.framework/Resources/bin/R CMD check --install=check:SomaticSignatures.install-out.txt --library=/Library/Frameworks/R.framework/Resources/library --no-vignettes --timings SomaticSignatures_2.42.0.tar.gz StartedAt: 2025-04-01 09:27:39 -0400 (Tue, 01 Apr 2025) EndedAt: 2025-04-01 09:41:34 -0400 (Tue, 01 Apr 2025) EllapsedTime: 835.4 seconds RetCode: 0 Status: OK CheckDir: SomaticSignatures.Rcheck Warnings: 0