Package: SomaticSignatures Version: 2.42.0 Command: /Library/Frameworks/R.framework/Resources/bin/R CMD build --keep-empty-dirs --no-resave-data SomaticSignatures StartedAt: 2025-03-31 22:11:27 -0400 (Mon, 31 Mar 2025) EndedAt: 2025-03-31 22:16:32 -0400 (Mon, 31 Mar 2025) EllapsedTime: 304.7 seconds RetCode: 0 Status: OK PackageFile: SomaticSignatures_2.42.0.tar.gz PackageFileSize: 2.817 MiB