Package: SomaticSignatures Version: 2.42.0 Command: /Library/Frameworks/R.framework/Resources/bin/R CMD check --install=check:SomaticSignatures.install-out.txt --library=/Library/Frameworks/R.framework/Resources/library --no-vignettes --timings SomaticSignatures_2.42.0.tar.gz StartedAt: 2025-04-02 09:25:43 -0400 (Wed, 02 Apr 2025) EndedAt: 2025-04-02 09:34:14 -0400 (Wed, 02 Apr 2025) EllapsedTime: 511.1 seconds RetCode: 1 Status: ERROR CheckDir: SomaticSignatures.Rcheck Warnings: NA