Package: SomaticSignatures Version: 2.42.0 Command: /Library/Frameworks/R.framework/Resources/bin/R CMD build --keep-empty-dirs --no-resave-data SomaticSignatures StartedAt: 2025-04-01 08:12:11 -0400 (Tue, 01 Apr 2025) EndedAt: 2025-04-01 08:15:31 -0400 (Tue, 01 Apr 2025) EllapsedTime: 200.8 seconds RetCode: 0 Status: OK PackageFile: SomaticSignatures_2.42.0.tar.gz PackageFileSize: 2.817 MiB