Package: SomaticSignatures Version: 2.42.0 Command: rm -rf SomaticSignatures.buildbin-libdir && mkdir SomaticSignatures.buildbin-libdir && /Users/biocbuild/BBS/utils/build-universal.sh SomaticSignatures_2.42.0.tar.gz /Library/Frameworks/R.framework/Resources/bin/R SomaticSignatures.buildbin-libdir StartedAt: 2025-04-02 16:25:54 -0400 (Wed, 02 Apr 2025) EndedAt: 2025-04-02 16:27:06 -0400 (Wed, 02 Apr 2025) EllapsedTime: 71.9 seconds RetCode: 0 Status: OK PackageFile: SomaticSignatures_2.42.0.tgz PackageFileSize: 3.509 MiB