Package: SingleR Version: 2.8.0 Command: chmod a+r SingleR -R && F:\biocbuild\bbs-3.20-bioc\R\bin\R.exe CMD build --keep-empty-dirs --no-resave-data SingleR StartedAt: 2025-03-31 21:59:06 -0400 (Mon, 31 Mar 2025) EndedAt: 2025-03-31 22:01:24 -0400 (Mon, 31 Mar 2025) EllapsedTime: 138.3 seconds RetCode: 0 Status: OK PackageFile: SingleR_2.8.0.tar.gz PackageFileSize: 465.2 KiB