Package: SingleR Version: 2.8.0 Command: /home/biocbuild/bbs-3.20-bioc/R/bin/R CMD build --keep-empty-dirs --no-resave-data --md5 SingleR StartedAt: 2025-03-31 19:10:22 -0400 (Mon, 31 Mar 2025) EndedAt: 2025-03-31 19:12:09 -0400 (Mon, 31 Mar 2025) EllapsedTime: 106.1 seconds RetCode: 0 Status: OK PackageFile: SingleR_2.8.0.tar.gz PackageFileSize: 676.8 KiB