Package: SingleR Version: 2.8.0 Command: /Library/Frameworks/R.framework/Resources/bin/R CMD check --install=check:SingleR.install-out.txt --library=/Library/Frameworks/R.framework/Resources/library --no-vignettes --timings SingleR_2.8.0.tar.gz StartedAt: 2025-04-02 09:07:07 -0400 (Wed, 02 Apr 2025) EndedAt: 2025-04-02 09:12:41 -0400 (Wed, 02 Apr 2025) EllapsedTime: 334.1 seconds RetCode: 0 Status: OK CheckDir: SingleR.Rcheck Warnings: 0