Package: SingleMoleculeFootprinting Version: 2.0.0 Command: /home/biocbuild/bbs-3.20-bioc/R/bin/R CMD check --install=check:SingleMoleculeFootprinting.install-out.txt --library=/home/biocbuild/bbs-3.20-bioc/R/site-library --timings SingleMoleculeFootprinting_2.0.0.tar.gz StartedAt: 2025-04-01 02:18:59 -0400 (Tue, 01 Apr 2025) EndedAt: 2025-04-01 02:27:10 -0400 (Tue, 01 Apr 2025) EllapsedTime: 491.4 seconds RetCode: 0 Status: WARNINGS CheckDir: SingleMoleculeFootprinting.Rcheck Warnings: 1