Package: SingleMoleculeFootprinting Version: 2.0.0 Command: /Library/Frameworks/R.framework/Resources/bin/R CMD INSTALL SingleMoleculeFootprinting StartedAt: 2025-03-31 15:53:32 -0400 (Mon, 31 Mar 2025) EndedAt: 2025-03-31 15:55:14 -0400 (Mon, 31 Mar 2025) EllapsedTime: 101.6 seconds RetCode: 0 Status: OK