Package: SingleMoleculeFootprinting Version: 2.0.0 Command: /Library/Frameworks/R.framework/Resources/bin/R CMD build --keep-empty-dirs --no-resave-data SingleMoleculeFootprinting StartedAt: 2025-03-31 22:07:13 -0400 (Mon, 31 Mar 2025) EndedAt: 2025-03-31 22:12:45 -0400 (Mon, 31 Mar 2025) EllapsedTime: 332.3 seconds RetCode: 0 Status: OK PackageFile: SingleMoleculeFootprinting_2.0.0.tar.gz PackageFileSize: 4.096 MiB