Package: SingleCellSignalR Version: 1.18.0 Command: /home/biocbuild/R/R/bin/R CMD check --install=check:SingleCellSignalR.install-out.txt --library=/home/biocbuild/R/R/site-library --no-vignettes --timings SingleCellSignalR_1.18.0.tar.gz StartedAt: 2025-04-01 10:47:09 -0000 (Tue, 01 Apr 2025) EndedAt: 2025-04-01 10:51:29 -0000 (Tue, 01 Apr 2025) EllapsedTime: 260.4 seconds RetCode: 0 Status: WARNINGS CheckDir: SingleCellSignalR.Rcheck Warnings: 2