Package: SingleCellSignalR Version: 1.18.0 Command: /home/biocbuild/R/R/bin/R CMD build --keep-empty-dirs --no-resave-data SingleCellSignalR StartedAt: 2025-04-01 02:45:35 -0000 (Tue, 01 Apr 2025) EndedAt: 2025-04-01 02:47:10 -0000 (Tue, 01 Apr 2025) EllapsedTime: 95.1 seconds RetCode: 0 Status: OK PackageFile: SingleCellSignalR_1.18.0.tar.gz PackageFileSize: 4.005 MiB