Package: SingleCellSignalR Version: 1.18.0 Command: /Library/Frameworks/R.framework/Resources/bin/R CMD build --keep-empty-dirs --no-resave-data SingleCellSignalR StartedAt: 2025-04-01 08:00:35 -0400 (Tue, 01 Apr 2025) EndedAt: 2025-04-01 08:02:17 -0400 (Tue, 01 Apr 2025) EllapsedTime: 102.3 seconds RetCode: 0 Status: OK PackageFile: SingleCellSignalR_1.18.0.tar.gz PackageFileSize: 4.481 MiB