Package: SingleCellSignalR Version: 1.18.0 Command: rm -rf SingleCellSignalR.buildbin-libdir && mkdir SingleCellSignalR.buildbin-libdir && /Users/biocbuild/BBS/utils/build-universal.sh SingleCellSignalR_1.18.0.tar.gz /Library/Frameworks/R.framework/Resources/bin/R SingleCellSignalR.buildbin-libdir StartedAt: 2025-04-02 16:23:33 -0400 (Wed, 02 Apr 2025) EndedAt: 2025-04-02 16:24:31 -0400 (Wed, 02 Apr 2025) EllapsedTime: 58.2 seconds RetCode: 0 Status: OK PackageFile: SingleCellSignalR_1.18.0.tgz PackageFileSize: 6.676 MiB