Package: SingleCellExperiment Version: 1.28.1 Command: /home/biocbuild/bbs-3.20-bioc/R/bin/R CMD INSTALL SingleCellExperiment StartedAt: 2025-03-31 15:17:02 -0400 (Mon, 31 Mar 2025) EndedAt: 2025-03-31 15:17:26 -0400 (Mon, 31 Mar 2025) EllapsedTime: 23.7 seconds RetCode: 0 Status: OK