Package: SingleCellExperiment Version: 1.28.1 Command: /Library/Frameworks/R.framework/Resources/bin/R CMD check --install=check:SingleCellExperiment.install-out.txt --library=/Library/Frameworks/R.framework/Resources/library --no-vignettes --timings SingleCellExperiment_1.28.1.tar.gz StartedAt: 2025-04-01 09:17:11 -0400 (Tue, 01 Apr 2025) EndedAt: 2025-04-01 09:24:27 -0400 (Tue, 01 Apr 2025) EllapsedTime: 435.3 seconds RetCode: 0 Status: OK CheckDir: SingleCellExperiment.Rcheck Warnings: 0