Package: SingleCellAlleleExperiment Version: 1.2.0 Command: F:\biocbuild\bbs-3.20-bioc\R\bin\R.exe CMD INSTALL SingleCellAlleleExperiment StartedAt: 2025-03-31 16:02:09 -0400 (Mon, 31 Mar 2025) EndedAt: 2025-03-31 16:07:30 -0400 (Mon, 31 Mar 2025) EllapsedTime: 320.4 seconds RetCode: 0 Status: OK