Package: SimFFPE Version: 1.18.0 Command: /home/biocbuild/R/R/bin/R CMD INSTALL SimFFPE StartedAt: 2025-03-31 20:27:36 -0000 (Mon, 31 Mar 2025) EndedAt: 2025-03-31 20:27:53 -0000 (Mon, 31 Mar 2025) EllapsedTime: 17.1 seconds RetCode: 0 Status: OK