Package: SimFFPE Version: 1.18.0 Command: /home/biocbuild/R/R/bin/R CMD build --keep-empty-dirs --no-resave-data SimFFPE StartedAt: 2025-04-01 02:43:52 -0000 (Tue, 01 Apr 2025) EndedAt: 2025-04-01 02:46:01 -0000 (Tue, 01 Apr 2025) EllapsedTime: 128.1 seconds RetCode: 0 Status: OK PackageFile: SimFFPE_1.18.0.tar.gz PackageFileSize: 740.5 KiB