Package: SigsPack Version: 1.20.0 Command: /home/biocbuild/R/R/bin/R CMD INSTALL SigsPack StartedAt: 2025-03-31 20:34:03 -0000 (Mon, 31 Mar 2025) EndedAt: 2025-03-31 20:34:05 -0000 (Mon, 31 Mar 2025) EllapsedTime: 2.1 seconds RetCode: 0 Status: OK