Package: SigsPack Version: 1.20.0 Command: F:\biocbuild\bbs-3.20-bioc\R\bin\R.exe CMD INSTALL SigsPack StartedAt: 2025-03-31 16:14:25 -0400 (Mon, 31 Mar 2025) EndedAt: 2025-03-31 16:14:47 -0400 (Mon, 31 Mar 2025) EllapsedTime: 22.0 seconds RetCode: 0 Status: OK