Package: SigsPack Version: 1.20.0 Command: /Library/Frameworks/R.framework/Resources/bin/R CMD check --install=check:SigsPack.install-out.txt --library=/Library/Frameworks/R.framework/Resources/library --no-vignettes --timings SigsPack_1.20.0.tar.gz StartedAt: 2025-04-01 09:14:04 -0400 (Tue, 01 Apr 2025) EndedAt: 2025-04-01 09:18:30 -0400 (Tue, 01 Apr 2025) EllapsedTime: 265.9 seconds RetCode: 0 Status: OK CheckDir: SigsPack.Rcheck Warnings: 0