Package: SigFuge Version: 1.44.0 Command: /home/biocbuild/R/R/bin/R CMD build --keep-empty-dirs --no-resave-data SigFuge StartedAt: 2025-04-01 02:42:32 -0000 (Tue, 01 Apr 2025) EndedAt: 2025-04-01 02:43:42 -0000 (Tue, 01 Apr 2025) EllapsedTime: 70.1 seconds RetCode: 0 Status: OK PackageFile: SigFuge_1.44.0.tar.gz PackageFileSize: 1.447 MiB