Package: SigCheck Version: 2.38.0 Command: /home/biocbuild/R/R/bin/R CMD INSTALL SigCheck StartedAt: 2025-03-31 20:55:40 -0000 (Mon, 31 Mar 2025) EndedAt: 2025-03-31 20:56:17 -0000 (Mon, 31 Mar 2025) EllapsedTime: 36.9 seconds RetCode: 0 Status: OK