Package: SigCheck Version: 2.38.0 Command: /home/biocbuild/R/R/bin/R CMD build --keep-empty-dirs --no-resave-data SigCheck StartedAt: 2025-04-01 02:42:04 -0000 (Tue, 01 Apr 2025) EndedAt: 2025-04-01 02:43:13 -0000 (Tue, 01 Apr 2025) EllapsedTime: 69.1 seconds RetCode: 0 Status: OK PackageFile: SigCheck_2.38.0.tar.gz PackageFileSize: 360.4 KiB