Package: SiPSiC Version: 1.6.0 Command: /home/biocbuild/bbs-3.20-bioc/R/bin/R CMD build --keep-empty-dirs --no-resave-data --md5 SiPSiC StartedAt: 2025-03-31 19:10:45 -0400 (Mon, 31 Mar 2025) EndedAt: 2025-03-31 19:11:17 -0400 (Mon, 31 Mar 2025) EllapsedTime: 31.0 seconds RetCode: 0 Status: OK PackageFile: SiPSiC_1.6.0.tar.gz PackageFileSize: 237.7 KiB