Package: SiPSiC Version: 1.6.0 Command: /Library/Frameworks/R.framework/Resources/bin/R CMD build --keep-empty-dirs --no-resave-data SiPSiC StartedAt: 2025-04-01 08:04:05 -0400 (Tue, 01 Apr 2025) EndedAt: 2025-04-01 08:04:44 -0400 (Tue, 01 Apr 2025) EllapsedTime: 38.4 seconds RetCode: 0 Status: OK PackageFile: SiPSiC_1.6.0.tar.gz PackageFileSize: 236.8 KiB