Package: ShortRead Version: 1.64.0 Command: /home/biocbuild/R/R/bin/R CMD check --install=check:ShortRead.install-out.txt --library=/home/biocbuild/R/R/site-library --no-vignettes --timings ShortRead_1.64.0.tar.gz StartedAt: 2025-04-01 10:42:12 -0000 (Tue, 01 Apr 2025) EndedAt: 2025-04-01 10:47:11 -0000 (Tue, 01 Apr 2025) EllapsedTime: 298.5 seconds RetCode: 1 Status: ERROR CheckDir: ShortRead.Rcheck Warnings: NA