Package: ShortRead Version: 1.64.0 Command: F:\biocbuild\bbs-3.20-bioc\R\bin\R.exe CMD INSTALL ShortRead StartedAt: 2025-03-31 16:22:48 -0400 (Mon, 31 Mar 2025) EndedAt: 2025-03-31 16:26:17 -0400 (Mon, 31 Mar 2025) EllapsedTime: 208.7 seconds RetCode: 0 Status: OK