Package: ShortRead Version: 1.64.0 Command: F:\biocbuild\bbs-3.20-bioc\R\bin\R.exe CMD check --no-multiarch --install=check:ShortRead.install-out.txt --library=F:\biocbuild\bbs-3.20-bioc\R\library --no-vignettes --timings ShortRead_1.64.0.tar.gz StartedAt: 2025-04-01 05:59:11 -0400 (Tue, 01 Apr 2025) EndedAt: 2025-04-01 06:09:15 -0400 (Tue, 01 Apr 2025) EllapsedTime: 604.2 seconds RetCode: 0 Status: WARNINGS CheckDir: ShortRead.Rcheck Warnings: 1