Package: ShortRead Version: 1.64.0 Command: /home/biocbuild/bbs-3.20-bioc/R/bin/R CMD build --keep-empty-dirs --no-resave-data --md5 ShortRead StartedAt: 2025-03-31 19:07:39 -0400 (Mon, 31 Mar 2025) EndedAt: 2025-03-31 19:08:41 -0400 (Mon, 31 Mar 2025) EllapsedTime: 62.1 seconds RetCode: 0 Status: OK PackageFile: ShortRead_1.64.0.tar.gz PackageFileSize: 5.075 MiB