Package: ShortRead Version: 1.64.0 Command: /Library/Frameworks/R.framework/Resources/bin/R CMD INSTALL ShortRead StartedAt: 2025-03-31 15:39:14 -0400 (Mon, 31 Mar 2025) EndedAt: 2025-03-31 15:41:07 -0400 (Mon, 31 Mar 2025) EllapsedTime: 112.7 seconds RetCode: 0 Status: OK