Package: ShortRead Version: 1.64.0 Command: /Library/Frameworks/R.framework/Resources/bin/R CMD check --install=check:ShortRead.install-out.txt --library=/Library/Frameworks/R.framework/Resources/library --no-vignettes --timings ShortRead_1.64.0.tar.gz StartedAt: 2025-04-01 09:10:30 -0400 (Tue, 01 Apr 2025) EndedAt: 2025-04-01 09:19:21 -0400 (Tue, 01 Apr 2025) EllapsedTime: 530.3 seconds RetCode: 0 Status: WARNINGS CheckDir: ShortRead.Rcheck Warnings: 2