Package: ShortRead Version: 1.64.0 Command: rm -rf ShortRead.buildbin-libdir && mkdir ShortRead.buildbin-libdir && /Users/biocbuild/BBS/utils/build-universal.sh ShortRead_1.64.0.tar.gz /Library/Frameworks/R.framework/Resources/bin/R ShortRead.buildbin-libdir StartedAt: 2025-04-01 12:46:34 -0400 (Tue, 01 Apr 2025) EndedAt: 2025-04-01 12:48:38 -0400 (Tue, 01 Apr 2025) EllapsedTime: 123.8 seconds RetCode: 0 Status: OK PackageFile: ShortRead_1.64.0.tgz PackageFileSize: 5.492 MiB