Package: ShortRead Version: 1.64.0 Command: /Library/Frameworks/R.framework/Resources/bin/R CMD build --keep-empty-dirs --no-resave-data ShortRead StartedAt: 2025-04-01 07:45:54 -0400 (Tue, 01 Apr 2025) EndedAt: 2025-04-01 07:47:43 -0400 (Tue, 01 Apr 2025) EllapsedTime: 109.2 seconds RetCode: 0 Status: OK PackageFile: ShortRead_1.64.0.tar.gz PackageFileSize: 5.06 MiB