Package: SeqSQC Version: 1.28.0 Command: /home/biocbuild/R/R/bin/R CMD build --keep-empty-dirs --no-resave-data SeqSQC StartedAt: 2025-04-01 02:40:13 -0000 (Tue, 01 Apr 2025) EndedAt: 2025-04-01 02:41:24 -0000 (Tue, 01 Apr 2025) EllapsedTime: 71.1 seconds RetCode: 0 Status: OK PackageFile: SeqSQC_1.28.0.tar.gz PackageFileSize: 4.94 MiB