Package: SeqSQC Version: 1.28.0 Command: F:\biocbuild\bbs-3.20-bioc\R\bin\R.exe CMD INSTALL SeqSQC StartedAt: 2025-03-31 16:06:49 -0400 (Mon, 31 Mar 2025) EndedAt: 2025-03-31 16:07:23 -0400 (Mon, 31 Mar 2025) EllapsedTime: 34.8 seconds RetCode: 0 Status: OK