Package: SeqSQC Version: 1.28.0 Command: chmod a+r SeqSQC -R && F:\biocbuild\bbs-3.20-bioc\R\bin\R.exe CMD build --keep-empty-dirs --no-resave-data SeqSQC StartedAt: 2025-03-31 21:53:36 -0400 (Mon, 31 Mar 2025) EndedAt: 2025-03-31 21:56:16 -0400 (Mon, 31 Mar 2025) EllapsedTime: 159.6 seconds RetCode: 0 Status: OK PackageFile: SeqSQC_1.28.0.tar.gz PackageFileSize: 4.338 MiB