Package: SeqSQC Version: 1.28.0 Command: /Library/Frameworks/R.framework/Resources/bin/R CMD INSTALL SeqSQC StartedAt: 2025-03-31 15:57:18 -0400 (Mon, 31 Mar 2025) EndedAt: 2025-03-31 15:58:02 -0400 (Mon, 31 Mar 2025) EllapsedTime: 44.4 seconds RetCode: 0 Status: OK