Package: SeqGate Version: 1.16.0 Command: /home/biocbuild/R/R/bin/R CMD INSTALL SeqGate StartedAt: 2025-03-31 20:20:32 -0000 (Mon, 31 Mar 2025) EndedAt: 2025-03-31 20:20:57 -0000 (Mon, 31 Mar 2025) EllapsedTime: 25.4 seconds RetCode: 0 Status: OK