Package: SeqGate Version: 1.16.0 Command: /Library/Frameworks/R.framework/Resources/bin/R CMD check --install=check:SeqGate.install-out.txt --library=/Library/Frameworks/R.framework/Resources/library --no-vignettes --timings SeqGate_1.16.0.tar.gz StartedAt: 2025-04-02 08:34:44 -0400 (Wed, 02 Apr 2025) EndedAt: 2025-04-02 08:37:32 -0400 (Wed, 02 Apr 2025) EllapsedTime: 167.9 seconds RetCode: 0 Status: OK CheckDir: SeqGate.Rcheck Warnings: 0