Package: SeqGate Version: 1.16.0 Command: rm -rf SeqGate.buildbin-libdir && mkdir SeqGate.buildbin-libdir && /Users/biocbuild/BBS/utils/build-universal.sh SeqGate_1.16.0.tar.gz /Library/Frameworks/R.framework/Resources/bin/R SeqGate.buildbin-libdir StartedAt: 2025-04-02 16:19:16 -0400 (Wed, 02 Apr 2025) EndedAt: 2025-04-02 16:19:42 -0400 (Wed, 02 Apr 2025) EllapsedTime: 26.1 seconds RetCode: 0 Status: OK PackageFile: SeqGate_1.16.0.tgz PackageFileSize: 265.3 KiB