Package: SeqGSEA Version: 1.46.0 Command: /home/biocbuild/R/R/bin/R CMD INSTALL SeqGSEA StartedAt: 2025-03-31 20:39:55 -0000 (Mon, 31 Mar 2025) EndedAt: 2025-03-31 20:40:36 -0000 (Mon, 31 Mar 2025) EllapsedTime: 41.1 seconds RetCode: 0 Status: OK