Package: SeqGSEA Version: 1.46.0 Command: /home/biocbuild/R/R/bin/R CMD build --keep-empty-dirs --no-resave-data SeqGSEA StartedAt: 2025-04-01 02:39:28 -0000 (Tue, 01 Apr 2025) EndedAt: 2025-04-01 02:42:32 -0000 (Tue, 01 Apr 2025) EllapsedTime: 184.2 seconds RetCode: 0 Status: OK PackageFile: SeqGSEA_1.46.0.tar.gz PackageFileSize: 1.67 MiB