Package: SemDist Version: 1.40.0 Command: /Library/Frameworks/R.framework/Resources/bin/R CMD build --keep-empty-dirs --no-resave-data SemDist StartedAt: 2025-03-31 21:57:55 -0400 (Mon, 31 Mar 2025) EndedAt: 2025-03-31 21:59:14 -0400 (Mon, 31 Mar 2025) EllapsedTime: 79.0 seconds RetCode: 0 Status: OK PackageFile: SemDist_1.40.0.tar.gz PackageFileSize: 1.953 MiB