Package: Sconify Version: 1.26.0 Command: /home/biocbuild/R/R/bin/R CMD INSTALL Sconify StartedAt: 2025-03-31 20:24:12 -0000 (Mon, 31 Mar 2025) EndedAt: 2025-03-31 20:24:26 -0000 (Mon, 31 Mar 2025) EllapsedTime: 14.7 seconds RetCode: 0 Status: OK