Package: Sconify Version: 1.26.0 Command: chmod a+r Sconify -R && F:\biocbuild\bbs-3.20-bioc\R\bin\R.exe CMD build --keep-empty-dirs --no-resave-data Sconify StartedAt: 2025-03-31 21:45:55 -0400 (Mon, 31 Mar 2025) EndedAt: 2025-03-31 21:46:48 -0400 (Mon, 31 Mar 2025) EllapsedTime: 52.2 seconds RetCode: 0 Status: OK PackageFile: Sconify_1.26.0.tar.gz PackageFileSize: 4.378 MiB